BEGIN:VCALENDAR
VERSION:2.0
PRODID:-//wp-events-plugin.com//7.2.3.1//EN
TZID:Europe/Prague
X-WR-TIMEZONE:Europe/Prague
BEGIN:VEVENT
UID:28@collegium.cz
DTSTART;TZID=Europe/Prague:20191126T180000
DTEND;TZID=Europe/Prague:20191126T190000
DTSTAMP:20191112T105359Z
URL:https://www.collegium.cz/events/mala-slavnost-umeni/
SUMMARY:Malá slavnost umění
DESCRIPTION:[su_document url="http://www.collegium.cz/wp-content/uploads/20
 19/11/MSU-11-2019-plak.pdf" width="860" height="860" title="Malá slavnost
  umění"]\n\nPořádá Collegium pro arte antiqua\n\nve spolupráci s Gym
 náziem a Základní uměleckou školou Pravla Křížkovského v Brně Ko
 míně\n\n&nbsp\;
ATTACH;FMTTYPE=image/jpeg:https://www.collegium.cz/wp-content/uploads/2019
 /11/IMGP0009-e1573465713324.jpg
CATEGORIES:Collegium
LOCATION:Gymnázium a ZUŠ P. Křížkovského\, Kristenova 27\, Brno - Kom
 ín\, 624 00\, Česká republika
X-APPLE-STRUCTURED-LOCATION;VALUE=URI;X-ADDRESS=Kristenova 27\, Brno - Kom
 ín\, 624 00\, Česká republika;X-APPLE-RADIUS=100;X-TITLE=Gymnázium a Z
 UŠ P. Křížkovského:geo:0,0
END:VEVENT
BEGIN:VTIMEZONE
TZID:Europe/Prague
X-LIC-LOCATION:Europe/Prague
BEGIN:STANDARD
DTSTART:20191027T020000
TZOFFSETFROM:+0200
TZOFFSETTO:+0100
TZNAME:CET
END:STANDARD
END:VTIMEZONE
END:VCALENDAR