BEGIN:VCALENDAR
VERSION:2.0
PRODID:-//wp-events-plugin.com//7.2.3.1//EN
TZID:Europe/Prague
X-WR-TIMEZONE:Europe/Prague
BEGIN:VEVENT
UID:60@collegium.cz
DTSTART;TZID=Europe/Prague;VALUE=DATE:20230722
DTEND;TZID=Europe/Prague;VALUE=DATE:20230730
DTSTAMP:20230708T091715Z
URL:http://www.collegium.cz/events/vintir-2023/
SUMMARY:Šumavské hudebně - turistické léto
DESCRIPTION:Letní hudební setkání Viwa a jejich přátel i příznivců
  proběhne tentokrát v lůně šumavské přírody.\nSobota 22. - sobota 
 29. července 2023\nDům sv. Vintíře (bývalá fara) - Dobrá voda u Har
 tmanic\n\nČeká nás společná práce na repertoárových i nových hude
 bních kusech vhodně prokládaná návštěvou výletních míst v blízk
 ém okolí\, poznáváním Šumavy a studiem i následnou nahrávkou něko
 lika autorských písniček do nově připravované knihy paní Černé.\n
 Předpokládaný program\nDopoledne budou věnována hudebnímu programu p
 ro ty\, kteří se do něj přihlásí.\nSpolečně budeme pracovat na pro
 hloubení a rozšíření repertoáru Vokálně instrumentálního waldorf
 ského ansámblu pod vedením Mojmíra Poláčka.\nV případě dostatečn
 ého počtu hlasů studujeme Missu Brevis Alberika Mazáka a Magnificat Ja
 na Sixta z Lerchenfelsu - tedy program vhodný právě pro kostel sv. Vint
 íře.\n\nOdpoledne se individuálně nebo v dohodnutých skupinách mů
 žeme věnovat turistice a poznávání místní krajiny a poutních kapl
 í a kostelů. V některém z nich se pokusíme domluvit možnost hudebn
 í produkce.\n\nVečer  (a pro vášnivé milce polyfonních zpěvů té
 ž ráno) budeme moci dle libosti a sil hudebně využívat akustiku krás
 ného kostela sv. Vintíře\, který se pyšní unikátním skleněným ol
 tářem a stojí naproti Domu sv. Vintíře.\n\nTěm\, kteří se nezúča
 stní dopoledních hudebních programů nabízíme alespoň ranní či ve
 černí zpívání. Stejně tak je možné využít podvečerní jógu\, o
 tužování v Křemelné\, příp. základní kurz nordic walking.\n\nV ok
 olí Dobré vody je mnoho krásných míst\, která určitě stojí za ná
 vštěvu:\n\n 	údolí řeky Křemelné a krajina zaniklých vesnic\n 	Pr
 ášily a Prášilské jezero\n 	sklárna a kostel sv. Mouřence v Annín
 ě\n 	šumavské městečko Kašperské hory a hrad Kašperk\n 	Hartmanick
 á synagoga\n 	plavební kanály\, Srní\, řeka Vydra\n\nPředpokládaný
  časový průběh\n(v případě dohody účastníků lze na místě upra
 vit)\n\nSobota 22. 7. 2023 - příjezd\, přivítání\, 19:00 oficiální
  zahájení\n\nNeděle - pátek\n\n7:00 - 8:00 jitřní zpěvy v kostele n
 ebo otužování v Křemelné\n\n8:00 snídaně\n\n9:00 hudba (pod vedení
 m M. Poláčka)\n\n12:30 oběd\n\nOdpoledne volno pro individuální nebo 
 skupinové výlety\n\n17:30 - 19:00 jóga (vede Tereza Jílková)\n\n19:00
  - 19:45 společná večeře\n\n20:30 - 22:00 zpívání a další muzika 
 (kostel sv. Vintíře )\n\nStředa - celodenní volno pro větší výlety
  nebo jiný odpočinek\n\nPátek - odpoledne přesun do Tanaberku\, od 18 
 hod. koncert\n\nPředpokládaný program koncertu k domácímu studiu part
 ů\n\nSobota 27. 7. 2023 - balení do 10:00h\, loučení\, odjezd\nUbytov
 ání \nDům sv. Vintíře (bývalá fara)\n- dvou - čtyřlůžkové poko
 je s příslušenstvím nebo bez\, společenská místnost - jídelna\, te
 rasa\nStravování\nSnídaně a teplé večeře nám bude připravovat Tom
 áš Moučka - zkušený kuchař\, lékař a odborník na zdravou výživu
  a zdravý pohyb. V domě je zároveň velká\, plně vybavená kuchyně s
  velkou lednicí\, kterou je možné využívat na přípravu vlastních s
 nídaní\, obědů a ev. doplňkových pokrmů.\n\nCena pobytu\n\n 	varian
 ta - pokoj s vlastním soc. zařízením: 4800\,- Kč (ubytování 3290\,-
  Kč\, polopenze 1400\,- Kč\, režie 110\,- Kč)\n 	varianta - pokoj se s
 polečným soc. zařízením: 4450\,- Kč (ubytování 2940\,- Kč\, polop
 enze 1400\,- Kč\, režie 110\,- Kč)\n\nCena za týden/dítě 3-15 let: u
 bytování 1750\,- Kč\, polopenze dohodou.\n\nHudební dopolední program
  + 500\,- Kč/týden/os.\n\nPřihlášení\nPřihlásit se můžete v obvy
 klém formuláři.  Zde také můžete zjistit obsazení.\nPřihlášení
  je platné po zaplacení zálohy na ubytování ve výši 1500\,- Kč na 
 účet paní produkční 670100-2215317485/6210.  Po připsání částky
  vám pošle potvrzení.\n\nMinimální počet účastníků - včetně ne
 hudebních - je 25.\n\nProdukce: Andrea Černá
ATTACH;FMTTYPE=image/jpeg:http://www.collegium.cz/wp-content/uploads/2023/
 01/Dum-sv.-Vintire-vyhled.jpeg
CATEGORIES:Collegium,VIWA
LOCATION:Domov Sv. Vintíře\, Hartmanice - Dobrá Voda\, Dobrá Voda\, 243
  01\, Česká republika
X-APPLE-STRUCTURED-LOCATION;VALUE=URI;X-ADDRESS=Hartmanice - Dobrá Voda\, 
 Dobrá Voda\, 243 01\, Česká republika;X-APPLE-RADIUS=100;X-TITLE=Domov 
 Sv. Vintíře:geo:0,0
END:VEVENT
BEGIN:VTIMEZONE
TZID:Europe/Prague
X-LIC-LOCATION:Europe/Prague
BEGIN:DAYLIGHT
DTSTART:20230326T030000
TZOFFSETFROM:+0100
TZOFFSETTO:+0200
TZNAME:CEST
END:DAYLIGHT
END:VTIMEZONE
END:VCALENDAR