BEGIN:VCALENDAR
VERSION:2.0
PRODID:-//wp-events-plugin.com//7.2.3.1//EN
TZID:Europe/Prague
X-WR-TIMEZONE:Europe/Prague
BEGIN:VEVENT
UID:22@collegium.cz
DTSTART;TZID=Europe/Prague:20200507T180000
DTEND;TZID=Europe/Prague:20200510T140000
DTSTAMP:20200428T071940Z
URL:http://www.collegium.cz/events/vanocni-prazdniny-s-viwa-4/
SUMMARY:Otvírání studánek s VIWA
DESCRIPTION:Na jaře 2019 jsme vlastnoručně vyhloubili VIWA studánku a p
 okřtili ji první slavností. Letos se na místo opět vracíme a budeme 
 pokračovat v úpravách místa a v rozvíjení našich hudebních schopno
 stí.
ATTACH;FMTTYPE=image/jpeg:http://www.collegium.cz/wp-content/uploads/2019/
 09/IMG_20190511_093956-1.jpg
CATEGORIES:VIWA
LOCATION:Dvůr Želichov\, Želichov 8\, Postupice\, 257 01\, Středočesk
 ý\, Česká republika
X-APPLE-STRUCTURED-LOCATION;VALUE=URI;X-ADDRESS=Želichov 8\, Postupice\, 2
 57 01\, Středočeský\, Česká republika;X-APPLE-RADIUS=100;X-TITLE=Dvů
 r Želichov:geo:0,0
END:VEVENT
BEGIN:VTIMEZONE
TZID:Europe/Prague
X-LIC-LOCATION:Europe/Prague
BEGIN:DAYLIGHT
DTSTART:20200329T030000
TZOFFSETFROM:+0100
TZOFFSETTO:+0200
TZNAME:CEST
END:DAYLIGHT
END:VTIMEZONE
END:VCALENDAR