BEGIN:VCALENDAR
VERSION:2.0
PRODID:-//wp-events-plugin.com//7.2.3.1//EN
TZID:Europe/Prague
X-WR-TIMEZONE:Europe/Prague
BEGIN:VEVENT
UID:26@collegium.cz
DTSTART;TZID=Europe/Prague:20200501T200000
DTEND;TZID=Europe/Prague:20200503T130000
DTSTAMP:20200428T071624Z
URL:http://www.collegium.cz/events/v-metodicky-seminar-pro-hudebni-pedagog
 y/
SUMMARY:V. Metodický seminář pro hudební pedagogy
DESCRIPTION:Z důvodů mimořádných koroavirových opatření se seminá
 ř odkládá na neurčito.
ATTACH;FMTTYPE=image/jpeg:http://www.collegium.cz/wp-content/uploads/2019/
 09/IMGP2858-e1572948636493.jpg
CATEGORIES:VIWA
LOCATION:Rodinná usedlost Holasice\, Holasice 9\, Lažánky\, 664 71\, Jih
 omoravský\, Česká republika
X-APPLE-STRUCTURED-LOCATION;VALUE=URI;X-ADDRESS=Holasice 9\, Lažánky\, 66
 4 71\, Jihomoravský\, Česká republika;X-APPLE-RADIUS=100;X-TITLE=Rodinn
 á usedlost Holasice:geo:0,0
END:VEVENT
BEGIN:VTIMEZONE
TZID:Europe/Prague
X-LIC-LOCATION:Europe/Prague
BEGIN:DAYLIGHT
DTSTART:20200329T030000
TZOFFSETFROM:+0100
TZOFFSETTO:+0200
TZNAME:CEST
END:DAYLIGHT
END:VTIMEZONE
END:VCALENDAR