BEGIN:VCALENDAR
VERSION:2.0
PRODID:-//wp-events-plugin.com//7.2.3.1//EN
TZID:Europe/Prague
X-WR-TIMEZONE:Europe/Prague
BEGIN:VEVENT
UID:37@collegium.cz
DTSTART;TZID=Europe/Prague:20201016T200000
DTEND;TZID=Europe/Prague:20201018T130000
DTSTAMP:20201001T204236Z
URL:http://www.collegium.cz/events/v-metodicky-seminar-pro-hudebni-pedagog
 y-2/
SUMMARY:V. Metodický seminář pro hudební pedagogy
DESCRIPTION:Poslední květnové sektání v minulém školním roce jsme z
  důvodu pandemických museli zrušit. Přestože situace je v současnost
 i podobně napnutá\, žijeme stále v naději\, že malá skupinka se vej
 de do početních limitů a budeme moci naše společné snažení postrč
 it opět o krok dopředu.\n\n\nVěnovat se budeme opět rozvíjení zákla
 dních hudebních předpokladů\, které jsou - jak se ukázalo v předcho
 zích setkáních - skutečnou achilovou patou všech pedagogických snah 
 účastníků. Tedy zautomatizování v rytmice\, bezpečné vnímání me
 lodie\, chopnost zápisu hudební myšlenky a naopak její rychlá a věrn
 á dešifrace z not\, schopnost strukturovat hodinu a dobře a pohotově r
 eagovat na pedagogické výzvy\, které vyučování hudby v praxi přiná
 ší.\n\nS sebou přivezte náměty\, hotové přípravy ke konzultaci a p
 ředevším konkrétní otázky\, které potřebujete s ostatními konzult
 ovat. A samozřejmě vypracované pkoly z minula + hudební nástroje.\n\n
 &nbsp\;\n\nZahajujeme v pátek ve 20 hodin\n\nKončíme v neděli ve 13 ho
 din\n\nNocleh v hostinských pokojích ve vlastních spacích pytlech a je
 dnoduché stravování zajistí hostitelé.\n\nNa setkání se těší\n\n
 Mojmír Poláček
ATTACH;FMTTYPE=image/jpeg:http://www.collegium.cz/wp-content/uploads/2019/
 09/IMGP2858-e1572948636493.jpg
CATEGORIES:VIWA
LOCATION:Rodinná usedlost Holasice\, Holasice 9\, Lažánky\, 664 71\, Jih
 omoravský\, Česká republika
X-APPLE-STRUCTURED-LOCATION;VALUE=URI;X-ADDRESS=Holasice 9\, Lažánky\, 66
 4 71\, Jihomoravský\, Česká republika;X-APPLE-RADIUS=100;X-TITLE=Rodinn
 á usedlost Holasice:geo:0,0
END:VEVENT
BEGIN:VTIMEZONE
TZID:Europe/Prague
X-LIC-LOCATION:Europe/Prague
BEGIN:DAYLIGHT
DTSTART:20200329T030000
TZOFFSETFROM:+0100
TZOFFSETTO:+0200
TZNAME:CEST
END:DAYLIGHT
END:VTIMEZONE
END:VCALENDAR