BEGIN:VCALENDAR
VERSION:2.0
PRODID:-//wp-events-plugin.com//7.2.3.1//EN
TZID:Europe/Prague
X-WR-TIMEZONE:Europe/Prague
BEGIN:VEVENT
UID:54@collegium.cz
DTSTART;TZID=Europe/Prague:20220724T160000
DTEND;TZID=Europe/Prague:20220730T160000
DTSTAMP:20220519T163918Z
URL:http://www.collegium.cz/events/svojsin/
SUMMARY:Hudební dovolená na Svojšíně
DESCRIPTION:VIWA - vokálně instrumentální waldorfský ansámbl si vás 
 dovoluje pozvat na jedinečnou\nHudebně vlastivědnou dovolenou na zámku
  Svojšín.\n24. - 30. července 2022\n\nPojďme si vyzkoušet hudební do
 volenou v západních Čechách. S muzikou se budeme se toulat po místní
 ch pamětihodnostech\, prozkoumáme okolní přírodní zajímavosti a ve 
 volných chvílích vezmeme do rukou flétny (či jiné nástroje dle vlas
 tních preferencí a schopností)\, abychom se ponořili do studia komorn
 í hudby nebo zpěvu.\n\nPředpokládaný program:\n8:00 společná snída
 ně z vlastních zdrojů\n9:00 společné studium hudebních partitur\n12:
 00 odjezd do předem vybraného místa\, prohlídka pamětihodností s roz
 ezvučením vhodných prostor\,\noběd v místě\n18:00 návrat do Svojš
 ína\, společná večeře\n19:00-21:00 večerní muzicírování ad libit
 um\nHudební program je závislý na sestavě hráčů a nástrojů. Můž
 eme více hrát či více zpívat\, můžeme stduovat vícehlasé skladby 
 či hrát v menších komorních partičkách. Domluvíme vše na místě.
  Upozorňujeme\, že účast pana Poláčka je zatím nejistá kvůli jeho
  jiným závazkům.\n\nUbytování: v letohrádku zámku Svojšín\, v še
 sti dvojlůžkových pokojích\, 350\,- Kč/os./noc\, společná kuchyňka
  k dispozici (případně další pokoje v o něco skromnější turistick
 é ubytovně za 250 Kč)\n\nHudební provoz: Ke zkouškám poslouží nep
 říliš využívaná zámecká kavárna ev. další akustické prostory z
 ámku a přilehlého kostela.  V případě zájmu můžeme zahrát pří
 mo v expozici zámku nebo v kavárně hostům.\n\nCo s sebou: hudební ná
 stroje\, noty a notové stojany\, tužka + guma\; přezuvky. Do svých zav
 azadel přibalte prakticky všechny vám dostupné hudební sešitky. Neza
 pomeňte zejména na Tanečky a Intrády I - III\, Antologii renesančníc
 h melodií\, Zpívejme pánu\, Teď proměnami hlasu I. - III.\, Kánonick
 é zpěvníky\, Tvorba melodie\, Hudba skladatelů raného baroka V. apod.
 . Pro chtivé veřejného hraní v kostýmech sebou vemte kostýmy. Pro ty
 \, co nevlastní budou připraveny exempláře k zapůjčení.\n\nCo to st
 ojí: 3000 Kč - zahrnuje ubytování a případné umělecké vedení. V 
 případě nižších nákladů budeme peníze vracet. Počítejte navíc 
 s placením vstupného do navštívených památek a s obědy a jídlem ku
 povaným v místě.\n\nHudební vedení: podle situace a obsazení\n\nRegi
 onální průvodkyně a produkční: Andrey Černá\n\nPřihlášky: Zapis
 ujte se volně zde. Po překročení kapacity letohrádku můžeme obsadit
  méně komfortní turistickou ubytovnu.\nVlastivědné toulání\nSvojš
 ín: Z nevzhledné pohraniční vsi se roku 2005 stala Vesnice roku (za p
 éči o zeleň) a stala se i vítězem národního kola Entente Florale Eu
 rope. Je zde opravený kostel Petra a Pavla s románskou věží\, zámek
  je od roku 1990 obecní.\n\nV dochozí vzdálenosti (večerní či rann
 í procházka) od zámku Svojšín je skalnaté okolí řeky Mže a želez
 niční zastávka (směr Stříbro  nebo naopak směr Mariánské Lázně
 ). Vlakem nebo autobusem lze snadno navštívit i pěkný kousek přírody
 \, neosídlené údolí Kosího potoka se zříceninou hradu Volfštejn.\n
 \nZ kulturních památek nesmíme v bezprostředním okolí Svojšína min
 out (do 15 minut autem): \n\nStříbro: Starobylé hornické městěčko.
  Výraznou dominantou města je renesanční radnice z 1. pol. 16. stolet
 í a pozdně gotický kostel z roku 1565. Ve městě se nachází Hornic
 ké muzeum\, ve kterém je expozice dolování stříbronosných rud\, za 
 městem je možné navštívit štoly. Štíty domů v celé památkové r
 ezervaci jsou nezřídka renesanční nebo barokní\, na jedné fasádě p
 řečkal staletí i znak kalicha.\n\nKlášter Kladruby: Jde o majestátn
 í benediktinský klášter K. I. Diezenhofera\, v němž je pochován Vá
 clav I. (jako jediný Přemyslovec)\, půlvodně románský a gotický kos
 tel přetavěný J. B. Santinim\, místo s neobyčejně krásnou akustikou
 .\n\nZámek Bezdružice: V souvislosti se zdejším šlechtickým sídlem 
 se vzdělancům vybaví jméno českého humanisty Kryštofa Haranta z Po
 lžic a Bezdružic\, autora známého cestopisu o putování do Svaté zem
 ě a do Egypta\, který proslul také jako hudební skladatel i jako úča
 stník odboje českých evangelických stavů proti Habsburkům. Spolu se 
 "sedmadvaceti českými pány" ukončil roku 1621 jeho život kat Jan Mydl
 ář na Staroměstském náměstí v Praze. Dnes je v zámku muzeum love
 ckých trofejí a vycpaných zvířat.\n\nV širším okolí: \n\nKonsta
 ntinovy Lázně (20 minut autem): Malinké lázně založené na sklonku 1
 8.st.\, prameny se sirnou železitou příchutí\, pěkný lesopark s prom
 enádou\, cukrárny a nádherné koupání v lomu na Hradišťském vrchu.
 \n\nKlášter Teplá (35 minut autem): Ohromný klášterní kolos Teplá 
 s velkolepou knihovnou a krásnou klášterní zahradou.\n\nDalší pěkn
 é vlastivědné cíle: městečko Úterý\, Mariánské Lázně\, Bečov 
 nad Teplou\n\nJe možné v předstihu zakoupit lístky a navštívit Kladr
 ubské kulturní léto: varhanní koncert 30. 7. Suffolk Wind Band (symfon
 ický orchestr z Velké Británie) nebo si 29. 7. prohlédnout klášter p
 ři netradiční prohlídce Monastýrování\n\nDobré restaurace v okolí
 : ve městě Stříbro velký výběr např. Pizzerie Rotunda\, pivovar a 
 restaurace v Chodové Plané\, Cafe Kryštof Harant 
ATTACH;FMTTYPE=image/jpeg:http://www.collegium.cz/wp-content/uploads/2022/
 05/Svojsin.jpg
CATEGORIES:VIWA
LOCATION:Zámek Svojšín\, Svojšín 1\, Svojšín\, 34901\, Česká repub
 lika
X-APPLE-STRUCTURED-LOCATION;VALUE=URI;X-ADDRESS=Svojšín 1\, Svojšín\, 3
 4901\, Česká republika;X-APPLE-RADIUS=100;X-TITLE=Zámek Svojšín:geo:0
 ,0
END:VEVENT
BEGIN:VTIMEZONE
TZID:Europe/Prague
X-LIC-LOCATION:Europe/Prague
BEGIN:DAYLIGHT
DTSTART:20220327T030000
TZOFFSETFROM:+0100
TZOFFSETTO:+0200
TZNAME:CEST
END:DAYLIGHT
END:VTIMEZONE
END:VCALENDAR