BEGIN:VCALENDAR
VERSION:2.0
PRODID:-//wp-events-plugin.com//7.2.3.1//EN
TZID:Europe/Prague
X-WR-TIMEZONE:Europe/Prague
BEGIN:VEVENT
UID:23@collegium.cz
DTSTART;TZID=Europe/Prague:20200619T170000
DTEND;TZID=Europe/Prague:20200621T160000
DTSTAMP:20200612T102524Z
URL:http://www.collegium.cz/events/svatojanska-viwa/
SUMMARY:Svatojánská  slavnost s VIWA
DESCRIPTION:Dlouhé podzimní prázdniny přímo vybízejí k prvnímu setk
 ání VIWA v tomto školním roce. Radost z hudebních prožitků podpoř
 í laskavé prostředí Příbramské waldorfské školy na dosah Svaté h
 ory. 
ATTACH;FMTTYPE=image/jpeg:http://www.collegium.cz/wp-content/uploads/2019/
 10/Lipnice-hrad-e1582578279906.jpg
CATEGORIES:VIWA
LOCATION:Lipnice nad Sázavou\, Lipnice nad Sázavou 4\, Lipnice nad Sázav
 ou\, Vysočina\, Česká republika
X-APPLE-STRUCTURED-LOCATION;VALUE=URI;X-ADDRESS=Lipnice nad Sázavou 4\, Li
 pnice nad Sázavou\, Vysočina\, Česká republika;X-APPLE-RADIUS=100;X-TI
 TLE=Lipnice nad Sázavou:geo:0,0
END:VEVENT
BEGIN:VTIMEZONE
TZID:Europe/Prague
X-LIC-LOCATION:Europe/Prague
BEGIN:DAYLIGHT
DTSTART:20200329T030000
TZOFFSETFROM:+0100
TZOFFSETTO:+0200
TZNAME:CEST
END:DAYLIGHT
END:VTIMEZONE
END:VCALENDAR