BEGIN:VCALENDAR
VERSION:2.0
PRODID:-//wp-events-plugin.com//7.2.3.1//EN
TZID:Europe/Prague
X-WR-TIMEZONE:Europe/Prague
BEGIN:VEVENT
UID:56@collegium.cz
DTSTART;TZID=Europe/Prague:20230127T190000
DTEND;TZID=Europe/Prague:20230129T140000
DTSTAMP:20230121T114059Z
URL:http://www.collegium.cz/events/pololetni-setkani-viwa-ve-slusticich/
SUMMARY:Pololetní setkání VIWA ve Slušticích
DESCRIPTION:VIWA – Vokálně instrumentální waldorfský ansámbl \n\nsi
  vás dovoluje pozvat v rámci permanentního cyklu\n\n\nŽivá muzika pro
  domov i školu\n\n\nna pololetní hudební setkání - tentokrát bez dě
 tí\n\n27. - 29. ledna 2023\n\nCi je v plánu?\n\n 	\n\n 	využijeme mrazi
 vý víkend k dalšímu zdokonalování ve zpěvu a instrumentální hře\
 n 	liturgicky stále ještě běžící vánoční čas symbolicky uzavře
 me přehrávkou písniček ze starých kancionálů\n 	nastudujeme další
  písničky z Michnovy Loutny České\n 	v bloku novinek ochutnáme podman
 ivou muziku málo známého skladatele Capsapara Förstera\n 	zkusíme ož
 ivit opuštěný formát sobotních odpoledních "poslechových seminář
 ů"\n 	prozkoumáme vývoj vašich improvizačních schopnostech na zažit
 ých harmonických schematech\n 	hudební hostinu vhodně doplníme o zná
 mé hudební tance a intrády z tradičního repertoáru\n\n\n\n&nbsp\;\n\
 nPředběžně plánovaný program: \n\nPátek 27. 1. 2023\n\n 	od 16:00 
 hod možný příjezd\, vítání\, objímání\n 	v mezičase hudební vy
 žití těch\, kdo mohou dorazit dříve\n 	individuání lekce flétnové
  nebo ansámblové hry\n 	20:00-21:30 formální zahájení\, večerní mu
 zicírování včetně vokalistů\n\nSobota  28. 1. 2023\n\n 	8:00 - 9:00
  společná snídaně přespávajících\n 	9:00 - 12:30 hudební blok s k
 ávovou přestávkou\n 	12:30 - oběd v dostupných restauracích v dojezd
 ové vzdálenosti nebo pizza s dovážkou\n 	cca. 15:00 - 18:00 chvilka sp
 olečné hudby\, event. poslechový seminář\n 	18:00 společná večeře
  z vlastních zásob\n 	20:00 - 21:30 večerní muzicírování ad libitum
 \n 	někdy večer - pokud nám bude počasí nakloněno (nebe bez mraků)\
 , přijede nadšený amatérský astronom Aleš s dalekohledem a můžeme 
 pozorovat kometu.\n\nNeděle 29.1.2023\n\n 	8:00 - 9:00 společná snídan
 ě přespávajících\n 	9:00 - 12:30 hudební blok s kávovou přestávko
 u\n 	12:30 závěrečná reflexe\; úklid užívaných prostor\, loučení
 \, mávání\n\n&nbsp\;\n\nCo to stojí: 700 Kč za osobu\, zahrnuje uměl
 ecké vedení\, pronájem prostoru\, půjčení materiálů\; 100Kč/os/no
 c pro případné přespávající\n\nCo s sebou: hudební nástroje\, not
 y a notové stojany\, tužka + guma\; přezuvky. Pro nováčky nebo pro ty
 \, kdo poztráceli kuličky budou notové materiály k dispozici na míst
 ě. Do svých zavazadel přibalte tradiční repertoár - Antologie\, Tanc
 e a Intrády\, kánonické knihy\, canzony\, Michnovu Loutnu českou\, ...
 .  přibalte i Vánoční hudbu z barokních kancionálů\, Starodávné 
 skládanie - určitě na ně taky dojde.\n\nKoláče\, bábovky a jiné do
 brůtky na snídaně a večeře. K dispozici prostorný sál\, skromné z
 ázemí ve školce. Spaní ve vlastních spacácích na karimatkách (ve 
 školce).\n\nÚčast dětí: Děti tentokrát zůstávájí doma.\n\nHudeb
 ní vedení:  Mojmír Poláček\n\nProdukce: Jana Procházková\n\nZávaz
 né přihlášky: přihlašujte se do volně přístupného přihlašovac
 ího archu.\n\nNezapomeňte si projet domácí úkoly z minula! Nováčci 
 budou samozřejmě napoprvé osvobozeni od veřejného přezkoušení.
ATTACH;FMTTYPE=image/jpeg:http://www.collegium.cz/wp-content/uploads/2022/
 02/muzska-sekce-scaled-e1674301234868.jpg
CATEGORIES:VIWA
LOCATION:Mateřská škola Maitrea\, Sluštice 11\, Sluštice\, 550 84\, Č
 eská republika
X-APPLE-STRUCTURED-LOCATION;VALUE=URI;X-ADDRESS=Sluštice 11\, Sluštice\, 
 550 84\, Česká republika;X-APPLE-RADIUS=100;X-TITLE=Mateřská škola Ma
 itrea:geo:0,0
END:VEVENT
BEGIN:VTIMEZONE
TZID:Europe/Prague
X-LIC-LOCATION:Europe/Prague
BEGIN:STANDARD
DTSTART:20221030T020000
TZOFFSETFROM:+0200
TZOFFSETTO:+0100
TZNAME:CET
END:STANDARD
END:VTIMEZONE
END:VCALENDAR