BEGIN:VCALENDAR
VERSION:2.0
PRODID:-//wp-events-plugin.com//7.2.3.1//EN
TZID:Europe/Prague
X-WR-TIMEZONE:Europe/Prague
BEGIN:VEVENT
UID:55@collegium.cz
DTSTART;TZID=Europe/Prague;VALUE=DATE:20221026
DTEND;TZID=Europe/Prague;VALUE=DATE:20221031
DTSTAMP:20221010T075841Z
URL:http://www.collegium.cz/events/podzimni-setkani/
SUMMARY:Podzimní setkání (v "nouzovém" režimu)
DESCRIPTION:VIWA - Vokálně instrumentální waldorfský ansámbl \n\nsi v
 ás dovoluje pozvat na nestandardní podzimní hudební setkání\n\n26. 1
 0. - 30. 10. 2022\n\nNaše milovaná Příbram je letos o podzimních prá
 zdninách opuštěná a na tři západy zamčená\, náš milovaný pan Po
 láček je o podzimních prázdninách v rekonvalescenci a nám tak nezbý
 vá než se buď smířit s tím\, že se celý půlrok neuvidíme\, nebo 
 experimentovat a sejít se bez něj. K dispozici máme prostor školy na O
 patově\, kde můžeme ochutnat hudbu pod náhradním vedením s krásným
  mladým mužem. Může nám věnovat chvíli času po odpolednách\, dopo
 ledne se tedy nabízí k vlastnivědným vycházkám po Praze nebo k hudeb
 nímu snažení v naší režii.\n\nPlánovaný program:\n\nstředa 26.10.
 2022\n\nvpodvečer příjezd\, vítání\, objímání\n\n20.00 večerní 
 hraní ad libitum s Terkou\n\nčtvrtek 27.10.2022\n\ndopoledne hudební po
 kusy v naší režii a/nebo vlastivědný program\n\n14:00 - 16:00 odpoled
 ní blok hudby s Kryštofem\n\n16:30 - 18:00 hudební blok v naší režii
 \n\nvečeře\n\n20:00 večerní hraní ad libitum s Terkou\n\npátek\, sob
 ota 28.-29. 10.2022\n\ndopoledne  vlastivědný program a/nebo hraní v 
 naší režii\n\n14:00 - 17:00 odpolední blok hudby s Kryštofem\n\nveče
 ře\n\n20:00 večerní společné muzicírování ad libitum\n\nneděle 30
 .10.2022\n\n9:00-12:00 dopolední hudba s Kryštofem\n\noběd\, úklid\, l
 oučení\, mávání\, odjezd domů\n\n&nbsp\;\n\nNa středu a čtvrtek do
 poledne přijímáme omluvenky\, pochopení mají všichni neučitelé.\n\
 nS sebou: hudební nástroje\, notové materiály\, notové pulty (pár z
 áložních ve škole)\, tužka\, guma\, vhodný pohodlný teplý obleček
  a přezutí\, oblečení na ven do každého počasí\n\nDo svých zavaza
 del můžete přibalit - máte-li - zpěvníky Zpívejte Pánu píseň nov
 ou\, modrý sborník Intrády a tance z 16. a 17. století I\, Kánonické
  knížky 1 - 4\, Kánonické zpěvy\, Teď proměnami hlasu 1 a 2\, Tvorb
 a melodie nad ostinátním basem\, Zpívánky 1-3\, Antologie renesanční
 ch melodií I\;\n\nStravování: Co by kamenem dohodil je od školy obchod
  s potravinami a čínská restaurace. Co by dvakrát kamenem dohodil je d
 alší možnost stravování. Obědy plánujeme zkoumat místní gastronom
 ii nebo se můžeme obsloužit sami. K dispozici nám bude kuchyňka\, kde
  si můžeme vcelku pohodlně vařit.\n\nUbytování: na lyceu na Opatově
 \, ve třídách na vlastních karimatkách a spacáčcích.  Sál na spo
 lečné hraní a třídy na spaní či hraní ve skupinkách. Jedna spole
 čná sprcha.\n\nCo to stojí:   1000Kč - zahrnuje umělecké vedení a 
 příspěvek škole za poskytnutí azylu. Počítejte taky s dalšími ná
 klady na restaurace a případné vstupenky do navšívených objektů.\n\
 nÚčast dětí: Program není primárně mířený na děti\, je však mo
 žné vzít větší děti sebou a hudebně je zapojit dle jejich schopnos
 tí a ochoty.\n\nHudební vedení:  do přechodné pěstounské péče n
 ás tentokrát převezme Kryštof Hlavnička - nadaný violoncellista\, ab
 solvent pražského lycea\, aktuálně student Univerzity Karlovy obor sbo
 rmistrovství.\n\nProdukce: Jana Procházková\n\nZávazné přihlášky: 
 zapisujte do volně přístupného přihlašovacího archu. "Uzávěrka" p
 řihlášek je pondělí 24.10.\, pokud nás bude 6 a méně\, odvolám Kr
 yštofa a zkusíme se domluvit mezi sebou bez dirigenta.\n\nNezapomeňte s
 i připomenout domácí úkoly z minula.
ATTACH;FMTTYPE=image/jpeg:http://www.collegium.cz/wp-content/uploads/2021/
 11/pred-pamatnikem-Antonina-Dvoraka-scaled.jpg
CATEGORIES:VIWA
LOCATION:Waldorfské lyceum Praha\, Křejpského 1501\, Praha 4\, 149 00\, 
 Praha\, Česká republika
X-APPLE-STRUCTURED-LOCATION;VALUE=URI;X-ADDRESS=Křejpského 1501\, Praha 4
 \, 149 00\, Praha\, Česká republika;X-APPLE-RADIUS=100;X-TITLE=Waldorfsk
 é lyceum Praha:geo:0,0
END:VEVENT
BEGIN:VTIMEZONE
TZID:Europe/Prague
X-LIC-LOCATION:Europe/Prague
BEGIN:DAYLIGHT
DTSTART:20220327T030000
TZOFFSETFROM:+0100
TZOFFSETTO:+0200
TZNAME:CEST
END:DAYLIGHT
BEGIN:STANDARD
DTSTART:20221030T020000
TZOFFSETFROM:+0200
TZOFFSETTO:+0100
TZNAME:CET
END:STANDARD
END:VTIMEZONE
END:VCALENDAR