BEGIN:VCALENDAR
VERSION:2.0
PRODID:-//wp-events-plugin.com//7.2.3.1//EN
TZID:Europe/Prague
X-WR-TIMEZONE:Europe/Prague
BEGIN:VEVENT
UID:49@collegium.cz
DTSTART;TZID=Europe/Prague;VALUE=DATE:20210823
DTEND;TZID=Europe/Prague;VALUE=DATE:20210830
DTSTAMP:20210711T080936Z
URL:http://www.collegium.cz/events/pistitabor-2021/
SUMMARY:Pištitábor Červená Lhota 2021
DESCRIPTION:Sedmé prázdninové setkání Pištibandu naplněné vyhrává
 ním\, výlety po svých i na kole\, koupáním\, dováděním\, hrami a k
 amarádským sdílením\, které lze zažít jen o prázdninách.\n \n\nTo
  vše v malebné krajině a bezprostřední blízkosti pohádkové Červen
 é Lhoty.\n\n23. - 29. srpna 2021\n\nDeštná u Jindřichova Hradce\n\nNá
 plní je praktické využití hudebních dovedností dětí při hře a zp
 ěvu v souboru a nabídnutí výsledků společné zkouškové práce veř
 ejnosti formou každodenních veřejných produkcí na zámku Červená Lh
 ota.\n\nSoučasně Pištitábor navazuje na dlouhodobé snažení Collegia
  - pomoci probudit u mladých lidí trvalejší lnutí k umění prostřed
 nictvím společných prožitků v kamarádské partě.\n\nV tomto roce po
 prvé vyzkoušíme hraní v komnatách zámku v malých partách\, které 
 budeme doplňovat oblíbeným repertoárem pod lipou.\n\nPříjezd: pondě
 lí 23. 8. 2021 do 18. hodiny\n\nOdjezd: neděle 29. 8. 2021 v 18 hodin\n\
 nDoprava: individuální\; doporučujeme dohodnout cestu jedním autem pro
  více dětí (pro odvoz kol z Brna nabízíme 6 míst v krytém přívěs
 ném vozíku)\n\nS sebou: stan podle domluvy spolubydlících\, spací pyt
 el a karimatku\, osobní potřeby\, dívky botičky do kostýmu na zámek 
 (hoši nejlépe halenu ala folklor a jednobarevné dlouhé kalhoty\, sand
 ály)\, letní mírně slavnostní oděv pod lípu\, kolo\, drobné sporto
 vní náčiní\, vlastní jídlo na první večeři\n\nCo to stojí: 2000 
 korun - cena zahrnuje ubytování\, stravování\, dopravu v místě\, zap
 ůjčení kostýmů\, notové materiály a režijní náklady vedení a po
 mocníků.\n\nVede: Mojmír Poláček\n\nLogistická pomoc a dohled nad ve
 dením: Nella Mazáčová\n\n\n\n\nZávazně se přihlašujte a skupiny do
  stanů tvořte pomocí otevřeného formuláře.
ATTACH;FMTTYPE=image/jpeg:http://www.collegium.cz/wp-content/uploads/2020/
 02/DSC03238-scaled-e1581195971684.jpg
CATEGORIES:Collegium,Pištiband
LOCATION:Červená Lhota\, Červená Lhota 1\, Deštná\, 378 21\, Česká 
 republika
X-APPLE-STRUCTURED-LOCATION;VALUE=URI;X-ADDRESS=Červená Lhota 1\, Deštn
 á\, 378 21\, Česká republika;X-APPLE-RADIUS=100;X-TITLE=Červená Lhota
 :geo:0,0
END:VEVENT
BEGIN:VTIMEZONE
TZID:Europe/Prague
X-LIC-LOCATION:Europe/Prague
BEGIN:DAYLIGHT
DTSTART:20210328T030000
TZOFFSETFROM:+0100
TZOFFSETTO:+0200
TZNAME:CEST
END:DAYLIGHT
END:VTIMEZONE
END:VCALENDAR