BEGIN:VCALENDAR
VERSION:2.0
PRODID:-//wp-events-plugin.com//7.2.3.1//EN
TZID:Europe/Prague
X-WR-TIMEZONE:Europe/Prague
BEGIN:VEVENT
UID:27@collegium.cz
DTSTART;TZID=Europe/Prague;VALUE=DATE:20200727
DTEND;TZID=Europe/Prague;VALUE=DATE:20200803
DTSTAMP:20200625T194047Z
URL:http://www.collegium.cz/events/pistiband-mnichovo-hradiste-2020/
SUMMARY:Hudební interpretační dílna za zámku Mnichovo Hradiště
DESCRIPTION:Správa státního zámku v Mnichově Hradišti nám nabídla m
 ožnost vyhrávání ve své zámecké sala terenně. To je líbezná zahr
 adní barokní stavba s pěknou akustikou.\n\nHledáme proto šikovné hud
 ebníky nejen z Pištibandu\, kteří by se rádi ve dnech 27. 7. - 2. 8. 
 2020 seznámili v Letní hudební dílně nové barokní i renesanční pa
 rtitury a střídavě v čase 10 - 16 hodin naplnili prostor i přilehlý 
 park dobovou muzikou.\n\nV okolí je řada kulturně i přírodně zajíma
 vých míst a též pěkné koupání v řece Jizeře.\n\nBydlí se bezpla
 tně v přilehlém zámeckém křídle v plném standardu. Jíme svépomoc
 ně.\n\nZ Brna a zpět se dopravíme společně veřejnou dopravou.\n\nZá
 vazně se přihlašujte a skupiny do stanů tvořte pomocí otevřeného f
 ormuláře.\n\n&nbsp\;\n\n[gallery link="file" size="medium" columns="2" i
 ds="1493\,1492\,1491\,1489\,1488\,1487"]
ATTACH;FMTTYPE=image/jpeg:http://www.collegium.cz/wp-content/uploads/2019/
 11/2017-011-Barokní-hudba-006.jpg
CATEGORIES:Collegium,Pištiband
LOCATION:Zámek Mnichovo Hradiště\, V lipách 148\, Mnichovo Hradiště\,
  295 01\, Česká republika
X-APPLE-STRUCTURED-LOCATION;VALUE=URI;X-ADDRESS=V lipách 148\, Mnichovo Hr
 adiště\, 295 01\, Česká republika;X-APPLE-RADIUS=100;X-TITLE=Zámek Mn
 ichovo Hradiště:geo:0,0
END:VEVENT
BEGIN:VTIMEZONE
TZID:Europe/Prague
X-LIC-LOCATION:Europe/Prague
BEGIN:DAYLIGHT
DTSTART:20200329T030000
TZOFFSETFROM:+0100
TZOFFSETTO:+0200
TZNAME:CEST
END:DAYLIGHT
END:VTIMEZONE
END:VCALENDAR