BEGIN:VCALENDAR
VERSION:2.0
PRODID:-//wp-events-plugin.com//7.2.3.1//EN
TZID:Europe/Prague
X-WR-TIMEZONE:Europe/Prague
BEGIN:VEVENT
UID:31@collegium.cz
DTSTART;TZID=Europe/Prague;VALUE=DATE:20200618
DTEND;TZID=Europe/Prague;VALUE=DATE:20200622
DTSTAMP:20200531T184705Z
URL:http://www.collegium.cz/events/pistiband-lipnice-2020/
SUMMARY:Pištiband na Lipnici
DESCRIPTION:Poslední příležitost tohoto školního roku ke společnému
  pobytu Pištibandu v malebném prostředí Lipnice nad Sázavou.  Čeká
  nás možnost vyhrávání v prostorách středověkého hradu\, báječn
 é koupání v zatopených lomech (povolí-li do té doby ministerstvo šk
 olství příchod léta) a hudební doprovod Svatojánské slavnosti soub
 ěžně pořádané rodinami z VIWA.\n\nČtvrtek  16.  - neděle 21. če
 rvna 2020 \n\nSraz: čtvrtek 8:00 hala hl. nádraží v Brně\n\nOdjezd: 8
 :20 vlakem do H. Brodu a odtud busem do Lipnice\n\nPříjezd: neděle 21. 
 června v 19\,40 hl. nádraží v Brně\n\nUbytování: Kamenosochařském
  středisku v Lipnici\n\nStravování: - snídaně a večeře svépomocí 
 ze surovin nakoupených v místě\, obědy v místní restauraci nebo své
 pomocí podle situace\, počasí a aktuálního programu\n\nS sebou hudebn
 í nástroje a notový repertoir Pištibandu\, pěkné letní kocertní ob
 lečení a obutí s chladnou hradní variantou\, sportovní oblečení a o
 butí pro nevyhrávací čas s ohledem na předpověď počasí\, osobní 
 potřeby\, plavky\, kdo chce prožít svatojánskou noc na hradě\, pak i 
 spacák a karimatku.\n\nCena: 750 korn (600 ubytování\, 150 cesta) + asi
  500 korun stravování\n\nVede: Mojmír Poláček\n\nPřihlášky: zapisu
 jte závazně do tabulky nejpozději do 7. června a zároveň tu mohou ro
 diče nabízet ev. volná místa v autech.\n\nK víkendovému pobytu a zvl
 áště na nedělní dopolední vyhrávání na hradě jsou zváni rodiče
 \, sourozenci\, babičky a dědečci či jiní domácí mazlíčci.  Indi
 viduální cesta zpět s rodinou je po předchozí domluvě možná.\n\nOb
 jemnější nástroje poveze doprovodné vozidlo po předchozí individuá
 lní domluvě.
ATTACH;FMTTYPE=image/jpeg:http://www.collegium.cz/wp-content/uploads/2020/
 05/lip25w-e1590925705633.jpg
CATEGORIES:Pištiband
LOCATION:Lipnice nad Sázavou\, Lipnice nad Sázavou 4\, Lipnice nad Sázav
 ou\, Vysočina\, Česká republika
X-APPLE-STRUCTURED-LOCATION;VALUE=URI;X-ADDRESS=Lipnice nad Sázavou 4\, Li
 pnice nad Sázavou\, Vysočina\, Česká republika;X-APPLE-RADIUS=100;X-TI
 TLE=Lipnice nad Sázavou:geo:0,0
END:VEVENT
BEGIN:VTIMEZONE
TZID:Europe/Prague
X-LIC-LOCATION:Europe/Prague
BEGIN:DAYLIGHT
DTSTART:20200329T030000
TZOFFSETFROM:+0100
TZOFFSETTO:+0200
TZNAME:CEST
END:DAYLIGHT
END:VTIMEZONE
END:VCALENDAR