BEGIN:VCALENDAR
VERSION:2.0
PRODID:-//wp-events-plugin.com//7.2.3.1//EN
TZID:Europe/Prague
X-WR-TIMEZONE:Europe/Prague
BEGIN:VEVENT
UID:58@collegium.cz
DTSTART;TZID=Europe/Prague;VALUE=DATE:20230428
DTEND;TZID=Europe/Prague;VALUE=DATE:20230502
DTSTAMP:20230417T100436Z
URL:http://www.collegium.cz/events/otevirani-studanek-s-viwa/
SUMMARY:Otvírání studánek s VIWA
DESCRIPTION:VIWA – Vokálně instrumentální waldorfský ansámbl \n\nsi
  vás dovoluje pozvat v rámci permanentního cyklu Živá muzika pro domo
 v i školu na Slavnost otvírání studánek. V roce 2022 jsme se setkali
  nad překrásnou studánou v Toulovcových Maštalích a letos bychom se 
 rádi na místo vrátili. Tentokrát jsme si jako základnu vybrali Turist
 ickou ubytovnu na samém kraji vchodu do skal.\n\n\n\nPředběžně pláno
 vaný program:\n\npátek 28. dubna 2023\n\nod 16 hod příjezd\, ubytován
 í\, vítání\, objímání\n\n20:00 formální zahájení\, porada dosp
 ělých\, hudební seznámení\n\nsobota - neděle 29. - 30. dubna 2023\n\
 n8:00 snídaně z vlastních zásob\n\n9:00-10:00 hudební blok pro děti\
 n\n10:30 - 12:00 hudební blok pro dospělé\n\n12:30 společnými silami 
 připravený oběd\n\nodpoledne vycházka do okolí\n\n17:-17:45 nácvik s
 tudánkové slavnosti\n\n18:00 večeře z vlastních zásob\n\n20:00 - 21:
 30 muzicírování dospělých\n\npondělí 1. května 2023\n\n8:00 snída
 ně\n\n9:00-9:45 rozezpívání\n\n10:00 odchod ke studánce\, studánkov
 á slavnost\n\n12:30 oběd\n\núklid užívaných prostor\, loučení\, m
 ávání\, odjezd\n\n&nbsp\;\n\n\n\nÚčast dětí: Děti vítány\, progr
 am je svým zaměřením určený převážně dětem. POZOR: hlídačkám
  jsme pro nedostatek hlídaných dětí zrušili pohotovost. Pokud by se n
 a poslední chvíli někdo chtěl přihlásit na akci a potřebuje hlídá
 ní\, radši zavolejte Janě.\n\nS sebou: hudební nástroje\, notové sto
 jany\, tužka + guma\, noty (Studánkové zpěvy\, pro dospěláky obligá
 tní repertoár). Pro nováčky budou notové materiály k dispozici na m
 ístě.\n\nOblečení na ven do každého počasí\, teplé oblečení na 
 dovnitř\, přezuvky. Slušivé slavnostnější oblečení na slavnost (n
 epovinné). Funkční repelent.\n\nProstěradlo (!)\, spacák. (možnost p
 ůjčit za poplatek na místě)\n\nDřevo do krbu\, kdo má možnost. Jina
 k vyšleme děti paběrkovat klestí do lesů.\n\nK dispozici máme zděno
 u budovu ubytovny\, 10 skromných pokojíčků s postýlkami a palandami\,
  vybavenou kuchyni\, jídelnu a společenskou místnost s krbem. Pod okny 
 teče říčka\, před domem je louka\, za humny skály a les.\n\nCo to st
 ojí: 1300Kč dospělý\, 1000Kč dítko - zahrnuje ubytování\, energie\
 , umělecké vedení.\n\nDalší náklady: 30Kč pronájem prostěradla\, 
 100Kč pronájem peřiny a polštáře\n\nJídlo je v naší režii\, ocho
 tní kuchaři/kuchařky se zapisujte do přihlašovací tabulky\, náklady
  na jídlo si pak rozpočítáme.\n\nZávazné přihlášky: přihlašujte
  se do pondělka 24. 4. 2023  do volně přístupného přihlašovacího 
 archu.\n\nHudební vedení:  Mojmír Poláček\n\nProdukce: Jana Procház
 ková\n\nDoporučené očkování pro danou oblast: proti klíšťové enc
 efalitidě\n\n&nbsp\;\n\nna fotodokumentaci z minulých ročníků se mů
 žete podívat  2018 \, 2019 a 2021
ATTACH;FMTTYPE=image/jpeg:http://www.collegium.cz/wp-content/uploads/2022/
 05/DSC_0011-scaled.jpg
CATEGORIES:VIWA
LOCATION:Vranice turistická ubytovna\, Turistická ubytovna Vranice\, Jaro
 šov\, 56966\, Česká republika
X-APPLE-STRUCTURED-LOCATION;VALUE=URI;X-ADDRESS=Turistická ubytovna Vranic
 e\, Jarošov\, 56966\, Česká republika;X-APPLE-RADIUS=100;X-TITLE=Vranic
 e turistická ubytovna:geo:0,0
END:VEVENT
BEGIN:VTIMEZONE
TZID:Europe/Prague
X-LIC-LOCATION:Europe/Prague
BEGIN:DAYLIGHT
DTSTART:20230326T030000
TZOFFSETFROM:+0100
TZOFFSETTO:+0200
TZNAME:CEST
END:DAYLIGHT
END:VTIMEZONE
END:VCALENDAR