BEGIN:VCALENDAR
VERSION:2.0
PRODID:-//wp-events-plugin.com//7.2.3.1//EN
TZID:Europe/Prague
X-WR-TIMEZONE:Europe/Prague
BEGIN:VEVENT
UID:59@collegium.cz
DTSTART;TZID=Europe/Prague;VALUE=DATE:20230813
DTEND;TZID=Europe/Prague;VALUE=DATE:20230821
DTSTAMP:20230909T111419Z
URL:http://www.collegium.cz/events/letni-hudebni-pobyt-rodin-fort-2023/
SUMMARY:XIV. Letní hudební pobyt rodin Fořt 2023
DESCRIPTION:XIV. hudební léto s Collegiem\n13. - 20. srpna 2023\n\nBiolog
 icko - dynamický statek Fořt v Podkrkonoší\n\nPro léto 2022 je přich
 ystán v pořadí již třináctý ročník prázdninového hudebního set
 kání současných nebo bývalých členů Collegia\, jejich rodin a hude
 bních přátel nejen z okruhu waldorfské pedagogiky.\n\nMístem pobytu j
 e po dobrých zkušenostech opět biologicko - dynamický statek Fořt pod
  Černou horou v Krkonoších.\nKdo náhodou dosud chyběl\, může si nas
 tudovat stručný popis místa.\n\nJak se nám dařilo v minulých letech 
 se můžete podívat na fotografiích z loňska nebo v archivu starších 
 ročníků.\n\nPředmětem společného studia ve velkém orchestru a sbor
 u bude mj. kantáta pavla Jurkoviče Devatero divný květ.\n\nTvořiví r
 odiče už zajisté chystají náplň pro odpolední dílničky.\n\nPříj
 ezd: neděle 13. srpna 2023 od 16 hodin\, 19\,00 společná večeře\n\nZa
 čátek programu: neděle 21\,30 společným setkáním rodičů a adolesc
 entů v sále zámku\n\nUkončení programu: neděle 20. srpna společným
  obědem ve 12\,30\n\nRámcový denní program (může být po dohodě ú
 častníků upraven):\n\n7:30 – 8:30 snídaně\n\n9:00 – 9:45 společn
 é zpívání a muzika s nejmenšími\n\n10:00 – 11:00 velký orchestr\n
 \n11:30 – 12:30 dvě - tři menší party vyspělějších hráčů\n\n1
 2:30 oběd\n\n15:00 – 16:30 individuální program rodin nebo rukodíln
 é dílny\n\n17:00 – 18 společný nácvik kantáty Pavla Jurkoviče Dev
 atero divný květ\n\n18:00 večeře\n\n20:00 – 22:00 dle chuti a sil do
 mlouvaný hudební nebo jiný program (muzika v malých partách\, společ
 ný zpěv etc.)\n\nČtvrtek je volný den vyčleněný na celodenní výle
 t.\n\nCo to stojí (den pobytu – bydlení a jídlo):\ndospělí a mláde
 ž od 14 let       4 00\,- Kč\nděti 7 – 13 let            
                   300\,- Kč\nděti 2 – 6 let            
                      200.- Kč\nStan\, karavan: cena minus 50.-
 \nPronájem povlečení: 75.- (omezený počet\, lépe vlastní)\n\n\nCel
 ý pobyt představuje 7 nocí a 7 celodenních penzí\n\nKurzovné:  350 
 korun/osobu (umělecky angažovaní dospělí a děti)\n\n\nSvoje místo n
 a setkání si však můžete rezervovat již nyní v obvyklém přihlašo
 vacím archu.\n\n&nbsp\;
ATTACH;FMTTYPE=image/jpeg:http://www.collegium.cz/wp-content/uploads/2022/
 11/DSC00751-e1668200540670.jpg
CATEGORIES:Collegium,VIWA
LOCATION:Biodynamický statek Fořt\, Fořt 29\, Černý Důl - Fořt\, 543
  44\, Česká republika
X-APPLE-STRUCTURED-LOCATION;VALUE=URI;X-ADDRESS=Fořt 29\, Černý Důl - F
 ořt\, 543 44\, Česká republika;X-APPLE-RADIUS=100;X-TITLE=Biodynamický
  statek Fořt:geo:0,0
END:VEVENT
BEGIN:VTIMEZONE
TZID:Europe/Prague
X-LIC-LOCATION:Europe/Prague
BEGIN:DAYLIGHT
DTSTART:20230326T030000
TZOFFSETFROM:+0100
TZOFFSETTO:+0200
TZNAME:CEST
END:DAYLIGHT
END:VTIMEZONE
END:VCALENDAR