BEGIN:VCALENDAR
VERSION:2.0
PRODID:-//wp-events-plugin.com//7.2.3.1//EN
TZID:Europe/Prague
X-WR-TIMEZONE:Europe/Prague
BEGIN:VEVENT
UID:50@collegium.cz
DTSTART;TZID=Europe/Prague;VALUE=DATE:20220806
DTEND;TZID=Europe/Prague;VALUE=DATE:20220814
DTSTAMP:20220410T205613Z
URL:http://www.collegium.cz/events/letni-fort-22/
SUMMARY:Letní hudební pobyt rodin Fořt
DESCRIPTION:XIII. hudební léto s Collegiem\n6. - 13. srpna 2022 \n\nBiolo
 gicko - dynamický statek Fořt v Podkrkonoší\n\nPro léto 2022 je přic
 hystán v pořadí již třináctý ročník prázdninového hudebního se
 tkání současných nebo bývalých členů Collegia\, jejich rodin a hud
 ebních přátel nejen z okruhu waldorfské pedagogiky.\n\nMístem pobytu 
 je po dobrých zkušenostech opět biologicko - dynamický statek Fořt po
 d Černou horou v Krkonoších.\nKdo náhodou dosud chyběl\, může si na
 studovat stručný popis místa.\n\nJak se nám dařilo v minulých letech
  se můžete podívat na fotografiích z loňska nebo v archivu starších
  ročníků.\n\nLetošní setkání obohatí přítomnost Kláry Kašové 
 - milé a již v historii Collegia prověřené učitelky nejen tance.\n\n
 Předmětem společného studia ve velkém orchestru a sboru bude mj. Truv
 érská mše Petra Ebena.\n\nTvořiví rodiče už zajisté chystají náp
 lň pro odpolední dílničky.\n\nPříjezd: sobota 6. srpna 2021 od 16 ho
 din\, 19\,30 společná večeře\n\nZačátek programu: sobota 21\,30 spol
 ečným setkáním rodičů v sále zámku\n\nUkončení programu: sobota 
 13. srpna společným obědem ve 12\,30\n\nRámcový denní program (můž
 e být po dohodě účastníků upraven):\n\n7:30 - 8:30 snídaně\n\n9:00
  - 9:45 společné zpívání a muzika s nejmenšími - vede Klára Kašov
 á\n\n10:00 - 11:00 velký orchestr\n\n11:30 - 12:30 dvě menší party do
 spělých a ev. nejstarších dítek\n\n12:30 oběd\n\n15:00 - 16:30 indiv
 iduální program rodin nebo rukodílné dílny\n\n17:00 - 18 výuka histo
 rických nebo lidových tanců\n\n18:00 večeře\n\n20:00 - 22:00 dle chut
 i a sil domlouvaný hudební nebo jiný program (muzika v malých partách
 \, společný zpěv etc.)\n\nStředa je volný den vyčleněný na celoden
 ní výlet.\n\nCo to stojí (den pobytu - bydlení a jídlo):\ndospělí a
  mládež od 14 let     400\,- Kč\nděti 7 - 13 let            
                   300\,- Kč\nděti 2 - 6 let             
                     200.- Kč\nStan: cena minus 50.-\nPronájem 
 povlečení: 75.- (omezený počet\, lépe vlastní)\n\n\nCelý pobyt pře
 dstavuje 7 nocí a 7 celodenních penzí\n\nKurzovné:  350 korun/osobu (
 umělecky angažovaní dospělí a děti)\n\n\nPřehled přihlášených\n
 \nDo konce dubna rezervujeme každoročním účastníkům jejich obvyklé
  pokoje. Po tomto datu budou dány k dispozici novým účastníkům.\n\nH
 udební materiály pro předběžné domácí studium budou postupně při
 bývat zde:\n\n\n&nbsp\;
ATTACH;FMTTYPE=image/jpeg:http://www.collegium.cz/wp-content/uploads/2019/
 12/DSC07382-e1631784180355.jpg
CATEGORIES:Collegium,VIWA
LOCATION:Biodynamický statek Fořt\, Fořt 29\, Černý Důl - Fořt\, 543
  44\, Česká republika
X-APPLE-STRUCTURED-LOCATION;VALUE=URI;X-ADDRESS=Fořt 29\, Černý Důl - F
 ořt\, 543 44\, Česká republika;X-APPLE-RADIUS=100;X-TITLE=Biodynamický
  statek Fořt:geo:0,0
END:VEVENT
BEGIN:VTIMEZONE
TZID:Europe/Prague
X-LIC-LOCATION:Europe/Prague
BEGIN:DAYLIGHT
DTSTART:20220327T030000
TZOFFSETFROM:+0100
TZOFFSETTO:+0200
TZNAME:CEST
END:DAYLIGHT
END:VTIMEZONE
END:VCALENDAR