BEGIN:VCALENDAR
VERSION:2.0
PRODID:-//wp-events-plugin.com//7.2.3.1//EN
TZID:Europe/Prague
X-WR-TIMEZONE:Europe/Prague
BEGIN:VEVENT
UID:40@collegium.cz
DTSTART;TZID=Europe/Prague;VALUE=DATE:20210815
DTEND;TZID=Europe/Prague;VALUE=DATE:20210823
DTSTAMP:20210704T205605Z
URL:http://www.collegium.cz/events/letni-fort-2021/
SUMMARY:Letní hudební pobyt rodin Fořt
DESCRIPTION:XII. hudební léto s Collegiem\n15. - 22. srpna 2021 \n\nBiolo
 gicko - dynamický statek Fořt v Podkrkonoší\n\nPro léto 2021 je přic
 hystán v pořadí již dvanáctý ročník prázdninového hudebního set
 kání současných nebo bývalých členů Collegia\, jejich rodin a hude
 bních přátel nejen z okruhu waldorfské pedagogiky.\n\nMístem pobytu j
 e po dobrých zkušenostech opět biologicko - dynamický statek Fořt pod
  Černou horou v Krkonoších.\nKdo náhodou dosud chyběl\, může si nas
 tudovat stručný popis místa.\n\nJak se nám dařilo v minulém roce se 
 můžete podívat na fotografiích nebo v archivu starších ročníků.\n
 \nPříjezd: neděle 15. srpna 2021 od 16 hodin\, 19\,30 společná veče
 ře\n\nZačátek programu: neděle 21\,30 společným setkáním rodičů 
 v sále zámku\n\nUkončení programu: neděle 22. srpna společným oběd
 em ve 12\,30\n\nRámcový denní program (může být po dohodě účastn
 íků upraven):\n\n7:30 - 8:30 snídaně\n\n9:00 - 9:45 společné zpívá
 ní a muzika s nejmenšími\n\n10:00 - 11:00 velký orchestr\n\n11:30 - 12
 :30 dvě menší party dospělých a ev. nejstarších dítek\n\n12:30 ob
 ěd\n\n15:00 - 16:30 individuální program rodin nebo rukodílné dílny\
 n\n17:00 - 18 Hra o sv. Dorotě (vybraní dospělí a děti)\n\n18:00 več
 eře\n\n20:00 - 22:00 dle chuti a sil domlouvaný hudební nebo jiný prog
 ram (muzika v malých partách\, společný zpěv etc.)\n\nČtvrtek je vol
 ný den vyčleněný na celodenní výlet.\n\nCo to stojí (den pobytu):\n
 dospělí a mládež od 14 let     375.- (165.- bydlení / 210.- strava
 )\nděti 7 - 13 let                              275.- (120
 .- / 155.-)\nděti 2 - 6 let                              
    185.- (80.- / 105.- )\n\nStan: cena minus 50.-\nPronájem povlečení
 : 75.- (omezený počet\, lépe vlastní)\n\n\nCelý pobyt představuje 7 
 nocí a 7 celodenních penzí\n\nKurzovné:  300 korun/osobu (umělecky a
 ngažovaní dospělí a děti)\n\n\nPřehled přihlášených\n\n\n\n\n\n\
 n\n\n\nNotové materiály pro domácí přípravu účastníků\n\n\n- k d
 ispozici jsou hlasy pro jednotlivé nástroje (umožní rychlejší a prec
 iznější spoolečné nastudování připravených partitur):\nSpolečné
  zpívání a muzika s nejmenšími: Kánonické vyhrávání\, Písničky
  pro nejmenší muzikanty\nVelký orchestr: Franz Bühler - Dětská sinfo
 nie\, ev. Ertl -  Žabky - II. díl\,\nPodvečer: Jurkovič - Hra o svat
 é Dorotě\, Jurkovič - Ptačí koncert\n&nbsp\;\n\n&nbsp\;
ATTACH;FMTTYPE=image/jpeg:http://www.collegium.cz/wp-content/uploads/2020/
 09/IMGP5754-001-e1610725740705.jpg
CATEGORIES:Collegium,VIWA
LOCATION:Biodynamický statek Fořt\, Fořt 29\, Černý Důl - Fořt\, 543
  44\, Česká republika
X-APPLE-STRUCTURED-LOCATION;VALUE=URI;X-ADDRESS=Fořt 29\, Černý Důl - F
 ořt\, 543 44\, Česká republika;X-APPLE-RADIUS=100;X-TITLE=Biodynamický
  statek Fořt:geo:0,0
END:VEVENT
BEGIN:VTIMEZONE
TZID:Europe/Prague
X-LIC-LOCATION:Europe/Prague
BEGIN:DAYLIGHT
DTSTART:20210328T030000
TZOFFSETFROM:+0100
TZOFFSETTO:+0200
TZNAME:CEST
END:DAYLIGHT
END:VTIMEZONE
END:VCALENDAR