BEGIN:VCALENDAR
VERSION:2.0
PRODID:-//wp-events-plugin.com//7.2.3.1//EN
TZID:Europe/Prague
X-WR-TIMEZONE:Europe/Prague
BEGIN:VEVENT
UID:66@collegium.cz
DTSTART;TZID=Europe/Prague:20230728T180000
DTEND;TZID=Europe/Prague:20230728T191500
DTSTAMP:20230704T074318Z
URL:http://www.collegium.cz/events/koncert-na-tanaberku/
SUMMARY:Koncert na Tanaberku
DESCRIPTION:Srdečně vás zveme na koncert VIWA ku příležitosti barokn
 ích oslav &amp\; Annenské pouti v kostele Sv. Anny na Tanaberku.\n\nBěh
 em koncertu\, který se uskuteční 28. července 2023 od 18 hod.\, zazní
  především drobnější skladby barokních skladatelů např.: A. V. Mi
 chna\, J. J. Božan\, H. Purcell\,  C. Merullo\, M. A. Charpentier a dal
 ší.\n\nPozvánka na Barokní oslavy &amp\;amp\; Anenskou pouť :: Tanabe
 rk\n\nBarokní oslavy &amp\; Anenská pouť | Facebook\n\n\n\n&nbsp\;
ATTACH;FMTTYPE=image/jpeg:http://www.collegium.cz/wp-content/uploads/2022/
 08/Jana-Prochazkova-posila-fotografii-2-e1693401609884.jpg
CATEGORIES:VIWA
LOCATION:Poutní kostel sv. Anny\, Všeruby - Hájek\, okr. Domažlice\, Č
 eská republika
X-APPLE-STRUCTURED-LOCATION;VALUE=URI;X-ADDRESS=Všeruby - Hájek\, okr. Do
 mažlice\, Česká republika;X-APPLE-RADIUS=100;X-TITLE=Poutní kostel sv.
  Anny:geo:0,0
END:VEVENT
BEGIN:VTIMEZONE
TZID:Europe/Prague
X-LIC-LOCATION:Europe/Prague
BEGIN:DAYLIGHT
DTSTART:20230326T030000
TZOFFSETFROM:+0100
TZOFFSETTO:+0200
TZNAME:CEST
END:DAYLIGHT
END:VTIMEZONE
END:VCALENDAR