BEGIN:VCALENDAR
VERSION:2.0
PRODID:-//wp-events-plugin.com//7.2.3.1//EN
TZID:Europe/Prague
X-WR-TIMEZONE:Europe/Prague
BEGIN:VEVENT
UID:44@collegium.cz
DTSTART;TZID=Europe/Prague:20220225T170000
DTEND;TZID=Europe/Prague:20220227T140000
DTSTAMP:20220220T083603Z
URL:http://www.collegium.cz/events/hudebni-setkani-viwa-ve-slusticich/
SUMMARY:Hudební setkání VIWA ve Slušticích
DESCRIPTION:VIWA – Vokálně instrumentální waldorfský ansámbl \n\nsi
  vás dovoluje pozvat v rámci permanentního cyklu\n\n\nŽivá muzika pro
  domov i školu\n\n\nna pololetní hudební setkání - tentokrát bez dě
 tí\n\n25. - 27. února 2022\n\n\nVyužijeme mrazivý víkend k dalšímu 
 zdokonalování ve zpěvu a instrumentální hře. Na programu je studium 
 Truvérské mše Petra Ebena\, vybraných písní z Michnovy Loutny Česk
 é. K tomu jako vždy rozezníme něco z renesančního a raně barokního
  repertoáru určeného k tanci a doplníme studiem hloubavých canzon a f
 antasií. Chybět nebude i pravidelný pokus o improvizaci na harmonická 
 schémata.\n\n&nbsp\;\n\nPlánovaný program: (který jako vždy budeme st
 riktně dodržovat)\n\nPátek 25.2.2022\n\n15:00-17:00 individuální flé
 tnové lekce dle harmonogramu\n\n17:00-19:00 instrumentální hra těch\, 
 kdo mohou dorazit\n\n20:00-21:30 formální zahájení\, večerní muzicí
 rování včetně vokalistů\n\nSobota  26.2.2020\n\n8:00-9:00 společná
  snídaně přespávajících\n\n9:00-12:30 hudební blok s kávovou přes
 távkou\n\n12:30 - oběd v dostupných restauracích v dojezdové vzdálen
 osti nebo pizza s dovážkou\, následuje venkovní procházka\n\ncca 15:0
 0-18:00 chvilka společné hudby\, event. poslechový seminář\n\n18:00 s
 polečná večeře z vlastních zásob\n\n20:00-21:30 večerní muzicírov
 ání ad libitum\n\nNeděle 27.2.2020\n\n8:00-9:00 společná snídaně p
 řespávajících\n\n9:00-12:30 hudební blok s kávovou přestávkou\n\n1
 2:30 závěrečná reflexe\; úklid užívaných prostor\, loučení\, má
 vání\n\nCo to stojí: cca 500-1000 Kč za osobu (podle počtu účastní
 ků)\, zahrnuje umělecké vedení\, pronájem prostoru\, půjčení mater
 iálů\; 100Kč/os/noc pro případné přespávající\n\nCo s sebou: hud
 ební nástroje\, noty a notové stojany\, tužka + guma\; přezuvky. Pro 
 nováčky nebo pro ty\, kdo poztráceli kuličky budou notové materiály 
 k dispozici na místě.\n\nKoláče\, bábovky a jiné dobrůtky na snída
 ně a večeře. K dispozici prostorný sál\, skromné zázemí ve školce
 . Spaní ve vlastních spacácích na karimatkách (pravděpodobně ve šk
 olce)\n\nÚčast dětí: Děti tentokrát zůstávají doma.\n\nHudební v
 edení:  Mojmír Poláček\n\nProdukce: Jana Procházková\n\nZávazné p
 řihlášky: přihlašujte se do volně přístupného přihlašovacího a
 rchu.\n\nNezapomeňte si projet domácí úkoly z minula! Nováčci budou 
 samozřejmě napoprvé osvobozeni od veřejného přezkoušení.
ATTACH;FMTTYPE=image/jpeg:http://www.collegium.cz/wp-content/uploads/2019/
 10/Sluštice-leden-2020-scaled-e1585208693749.jpg
CATEGORIES:VIWA
LOCATION:Mateřská škola Maitrea\, Sluštice 11\, Sluštice\, 550 84\, Č
 eská republika
X-APPLE-STRUCTURED-LOCATION;VALUE=URI;X-ADDRESS=Sluštice 11\, Sluštice\, 
 550 84\, Česká republika;X-APPLE-RADIUS=100;X-TITLE=Mateřská škola Ma
 itrea:geo:0,0
END:VEVENT
BEGIN:VTIMEZONE
TZID:Europe/Prague
X-LIC-LOCATION:Europe/Prague
BEGIN:STANDARD
DTSTART:20211031T020000
TZOFFSETFROM:+0200
TZOFFSETTO:+0100
TZNAME:CET
END:STANDARD
END:VTIMEZONE
END:VCALENDAR