BEGIN:VCALENDAR
VERSION:2.0
PRODID:-//wp-events-plugin.com//7.2.3.1//EN
TZID:Europe/Prague
X-WR-TIMEZONE:Europe/Prague
BEGIN:VEVENT
UID:65@collegium.cz
DTSTART;TZID=Europe/Prague;VALUE=DATE:20230822
DTEND;TZID=Europe/Prague;VALUE=DATE:20230828
DTSTAMP:20230606T194742Z
URL:http://www.collegium.cz/events/cervena-lhota-2023/
SUMMARY:Letní muzika na Červené Lhotě 2023
DESCRIPTION:Deváté prázdninové setkání Juniorpištibandu a Stuhy na o
 blíbeném místě\n \n\nTo vše v malebné krajině a bezprostřední bl
 ízkosti pohádkové Červené Lhoty.\n\n22. - 27. srpna 2023\n\nDeštná 
 u Jindřichova Hradce\n\nNáplní je praktické využití hudebních doved
 ností mladých lidí při hře a zpěvu v souboru a nabídnutí výsledk
 ů společné zkouškové práce veřejnosti formou každodenních výjezd
 ů do památných a nebo jinak zajímavých míst v okolí.\n\nSetkání n
 avazuje na dlouhodobé snažení Collegia - pomoci probudit u mladých lid
 í trvalejší lnutí k umění prostřednictvím společných prožitků 
 v kamarádské partě.\n\nRepertoár a přesnější obsah dění bude př
 edmětem předprázdninové společné domluvy na základě vaší volby p
 rogramu a výsledného obsazení souboru.\n\nPředpokládaný rogram: Pův
 odní zažitý formát s odpoledním drobným vyhráváním pod lipou nebo
  na nádvoří zámku\, koupání\, softbal a další radovánky.\n\nPří
 jezd: úterý 22. 8. 2023 do 18. hodiny\n\nOdjezd: neděle 27. 8. 2023 ve 
 14 hodin\n\nDoprava: individuální\n\nUbytování: Fara v Deštné\,  st
 any na farské zahradě\, uvnitř budovy sociální zařízení\, kuchyně
 \, jídelna a zkušebna\n\nStravování: příprava pokrmů svépomocí po
 d vedením zkušeného kuchaře\n\nS sebou: stan podle domluvy spolubydlí
 cích\, spací pytel a karimatku\, osobní potřeby\, kostýmy včetně vh
 odných bot (jsou-li v zápůjčce)\, letní mírně slavnostní oděv na 
 veřejné vyhrávání\, kolo\, malý batoh k cestě na zámek a k rybník
 u\, drobné sportovní náčiní\, vlastní jídlo na první večeři\;\n\
 nNotové materiály souborové hry studované v Brně a na minulých setk
 áních\, hudební nástroje\n\nCo to stojí: 2700 korun - ubytování\, s
 travování\, zapůjčení kostýmů\, notové materiály a režijní nák
 lady vedení a pomocníků.\n\nVede: Mojmír Poláček\n\nLogistická pomo
 c a dohled nad vedením: Bjetka Poláčková\n\n\n\n\nZávazně se přihla
 šujte a skupiny do stanů tvořte pomocí otevřeného formuláře.
ATTACH;FMTTYPE=image/jpeg:http://www.collegium.cz/wp-content/uploads/2020/
 02/DSC03238-scaled-e1581195971684.jpg
CATEGORIES:Collegium,Studentská harmonie
LOCATION:Červená Lhota\, Červená Lhota 1\, Deštná\, 378 21\, Česká 
 republika
X-APPLE-STRUCTURED-LOCATION;VALUE=URI;X-ADDRESS=Červená Lhota 1\, Deštn
 á\, 378 21\, Česká republika;X-APPLE-RADIUS=100;X-TITLE=Červená Lhota
 :geo:0,0
END:VEVENT
BEGIN:VTIMEZONE
TZID:Europe/Prague
X-LIC-LOCATION:Europe/Prague
BEGIN:DAYLIGHT
DTSTART:20230326T030000
TZOFFSETFROM:+0100
TZOFFSETTO:+0200
TZNAME:CEST
END:DAYLIGHT
END:VTIMEZONE
END:VCALENDAR